BEGIN:VCALENDAR
VERSION:2.0
PRODID:-//MECA Swindon - ECPv6.2.8.2//NONSGML v1.0//EN
CALSCALE:GREGORIAN
METHOD:PUBLISH
X-WR-CALNAME:MECA Swindon
X-ORIGINAL-URL:https://www.mecaswindon.co.uk
X-WR-CALDESC:Events for MECA Swindon
REFRESH-INTERVAL;VALUE=DURATION:PT1H
X-Robots-Tag:noindex
X-PUBLISHED-TTL:PT1H
BEGIN:VTIMEZONE
TZID:Europe/London
BEGIN:DAYLIGHT
TZOFFSETFROM:+0000
TZOFFSETTO:+0100
TZNAME:BST
DTSTART:20260329T010000
END:DAYLIGHT
BEGIN:STANDARD
TZOFFSETFROM:+0100
TZOFFSETTO:+0000
TZNAME:GMT
DTSTART:20261025T010000
END:STANDARD
END:VTIMEZONE
BEGIN:VEVENT
DTSTART;TZID=Europe/London:20260222T140000
DTEND;TZID=Europe/London:20260222T170000
DTSTAMP:20260419T232824
CREATED:20251216T124213Z
LAST-MODIFIED:20251217T135650Z
UID:10000495-1771768800-1771779600@www.mecaswindon.co.uk
SUMMARY:Megaslam - February 2026
DESCRIPTION:BRAND NEW SHOW FOR 2026! \nThe #1 Live Experience for Families is back with it’s BIGGEST tour to date as Megaslam presents the 2026 Mega Tour! \nWHAT TO EXPECT! \nTaking place in locations across the United Kingdom\, Isle Of Man and Republic Of Ireland – the 2026 Mega Tour will feature all of your favourite Megaslam stars and some brand new ones! \nEstablished in 2009 and presenting hundreds of Live Events per year\, Megaslam truly is the ultimate live experience for families & we invite you to join us and create amazing memories! \nTeam Nasty will battle it out with Team Megaslam in a series of action packed matches designed to get the whole family out of their seats and cheering on their favourites! \nGet ready to enter the world of Megaslam – take your seat and join thousands of families each year as you witness The #1 Live Experience for Families!
URL:https://www.mecaswindon.co.uk/events-tickets/megaslam-february-2026/
LOCATION:MECA Swindon\, Regent Circus\, Swindon\, SN1 1PR\, United Kingdom
CATEGORIES:Childrens,Sports
ATTACH;FMTTYPE=image/png:https://www.mecaswindon.co.uk/wp-content/uploads/2025/12/MECA-800x525-1.png
END:VEVENT
BEGIN:VEVENT
DTSTART;TZID=Europe/London:20260221T173000
DTEND;TZID=Europe/London:20260221T230000
DTSTAMP:20260419T232824
CREATED:20260113T130838Z
LAST-MODIFIED:20260213T212239Z
UID:10000504-1771695000-1771714800@www.mecaswindon.co.uk
SUMMARY:Tank Promotions: Champion's Return
DESCRIPTION:
URL:https://www.mecaswindon.co.uk/events-tickets/tank-promotions-champions-return/
LOCATION:MECA Swindon\, Regent Circus\, Swindon\, SN1 1PR\, United Kingdom
CATEGORIES:Sports
ATTACH;FMTTYPE=image/png:https://www.mecaswindon.co.uk/wp-content/uploads/2026/01/MECA-800x525-36.png
END:VEVENT
END:VCALENDAR